BEGIN:VCALENDAR
VERSION:2.0
PRODID:-//Force Athletics - ECPv6.15.20//NONSGML v1.0//EN
CALSCALE:GREGORIAN
METHOD:PUBLISH
X-ORIGINAL-URL:https://forceathletics.net
X-WR-CALDESC:Events for Force Athletics
REFRESH-INTERVAL;VALUE=DURATION:PT1H
X-Robots-Tag:noindex
X-PUBLISHED-TTL:PT1H
BEGIN:VTIMEZONE
TZID:UTC
BEGIN:STANDARD
TZOFFSETFROM:+0000
TZOFFSETTO:+0000
TZNAME:UTC
DTSTART:20250101T000000
END:STANDARD
END:VTIMEZONE
BEGIN:VEVENT
DTSTART;TZID=UTC:20260417T183000
DTEND;TZID=UTC:20260417T203000
DTSTAMP:20260423T161441
CREATED:20260217T190049Z
LAST-MODIFIED:20260227T160917Z
UID:10000016-1776450600-1776457800@forceathletics.net
SUMMARY:Power Hour Tumble Clinic
DESCRIPTION:Our Power Hour Tumble Clinic is back! This one hour focused session prioritizes one skill at a time! Helping to either clean or master your tumbling! This clinic offers two sessions you may do just one or both sessions! This clinic is open to the public ages 5+\nSession 1: 6:30-7:30pm (you will select one skill to work on)\n– Back Bends\n– Back Walkovers\n– Back Handsprings\n– Tuck/Punch Fronts \nSession 2: 7:30-8:30pm (you will select one skill to work on)\n– Cartwheels\n– Front Walkovers\n– Front Handsprings\n– Aerials \n  \n 
URL:https://forceathletics.net/event/power-hour-tumble-clinic/
CATEGORIES:Upcoming Events
ATTACH;FMTTYPE=image/jpeg:https://forceathletics.net/wp-content/uploads/2026/02/Power-Hour-upcoming-events.jpg
END:VEVENT
END:VCALENDAR