BEGIN:VCALENDAR
VERSION:2.0
PRODID:-//Force Athletics - ECPv6.15.20//NONSGML v1.0//EN
CALSCALE:GREGORIAN
METHOD:PUBLISH
X-ORIGINAL-URL:https://forceathletics.net
X-WR-CALDESC:Events for Force Athletics
REFRESH-INTERVAL;VALUE=DURATION:PT1H
X-Robots-Tag:noindex
X-PUBLISHED-TTL:PT1H
BEGIN:VTIMEZONE
TZID:UTC
BEGIN:STANDARD
TZOFFSETFROM:+0000
TZOFFSETTO:+0000
TZNAME:UTC
DTSTART:20240101T000000
END:STANDARD
END:VTIMEZONE
BEGIN:VTIMEZONE
TZID:UTC
BEGIN:STANDARD
TZOFFSETFROM:+0000
TZOFFSETTO:+0000
TZNAME:UTC
DTSTART:20250101T000000
END:STANDARD
END:VTIMEZONE
BEGIN:VEVENT
DTSTART;TZID=UTC:20260417T183000
DTEND;TZID=UTC:20260417T203000
DTSTAMP:20260423T113348
CREATED:20260217T190049Z
LAST-MODIFIED:20260227T160917Z
UID:10000016-1776450600-1776457800@forceathletics.net
SUMMARY:Power Hour Tumble Clinic
DESCRIPTION:Our Power Hour Tumble Clinic is back! This one hour focused session prioritizes one skill at a time! Helping to either clean or master your tumbling! This clinic offers two sessions you may do just one or both sessions! This clinic is open to the public ages 5+\nSession 1: 6:30-7:30pm (you will select one skill to work on)\n– Back Bends\n– Back Walkovers\n– Back Handsprings\n– Tuck/Punch Fronts \nSession 2: 7:30-8:30pm (you will select one skill to work on)\n– Cartwheels\n– Front Walkovers\n– Front Handsprings\n– Aerials \n  \n 
URL:https://forceathletics.net/event/power-hour-tumble-clinic/
CATEGORIES:Upcoming Events
ATTACH;FMTTYPE=image/jpeg:https://forceathletics.net/wp-content/uploads/2026/02/Power-Hour-upcoming-events.jpg
END:VEVENT
BEGIN:VEVENT
DTSTART;TZID=UTC:20260413T173000
DTEND;TZID=UTC:20260413T193000
DTSTAMP:20260423T113348
CREATED:20260319T154102Z
LAST-MODIFIED:20260319T154106Z
UID:10000034-1776101400-1776108600@forceathletics.net
SUMMARY:Spring/Summer Program Open House
DESCRIPTION:You’re invited to join us for a fun-filled evening at Force Athletics! Come check out everything we offer our community! From Summer Camps to Tumble Classes\, Birthday Parties and so much more! \n📅 Monday\, April 13\n🕠 5:30–7:30 PM\n📍 Force Athletics \nBring your family and friends and enjoy:\n• Info on Summer Camps & Birthday Parties\n• Tumble Class Info\n• Competitive Cheer Info\n• Class demos & gym tours\n• Raffles\, prizes & exclusive specials\n• FREE swag bag when you register in advance \n💥 Referral Bonus: Bring a friend! Each referral who attends earns you an entry into our raffle for extra prizes. \n✨ Come see what makes Force Athletics special—we’d love to meet you! \n👉 Register now to save your spot and claim your FREE swag bag \n  \n 
URL:https://forceathletics.net/event/spring-summer-program-open-house/
CATEGORIES:Upcoming Events
ATTACH;FMTTYPE=image/jpeg:https://forceathletics.net/wp-content/uploads/2026/03/Copy-of-Copy-of-Open-House-August-2024-Connect-3.jpg
END:VEVENT
BEGIN:VEVENT
DTSTART;TZID=UTC:20260406T090000
DTEND;TZID=UTC:20260409T130000
DTSTAMP:20260423T113348
CREATED:20260217T182707Z
LAST-MODIFIED:20260227T160751Z
UID:10000014-1775466000-1775739600@forceathletics.net
SUMMARY:Spring Break Cheer & Tumble Camp
DESCRIPTION:Schools Out for Spring Break! Let Force Athletics handle all the fun! This is a Cheer and Tumble Camp perfect for ages 5-12 years old!\nKids will meet new friends while taking part in all things cheer! They get to create routines\, dance\, jump\, play games\, and tumble!\nYou may do just one day of camp or all four! with extended hours also available for kids that may require a full day camp!\nThis camp is open to the public! \n  \n 
URL:https://forceathletics.net/event/spring-break-cheer-tumble-camp/
CATEGORIES:Upcoming Events
ATTACH;FMTTYPE=image/jpeg:https://forceathletics.net/wp-content/uploads/2026/02/SB-Camp-Upcoming-Events.jpg
END:VEVENT
BEGIN:VEVENT
DTSTART;TZID=UTC:20260406T090000
DTEND;TZID=UTC:20260407T110000
DTSTAMP:20260423T113348
CREATED:20260217T184003Z
LAST-MODIFIED:20260218T232411Z
UID:10000015-1775466000-1775559600@forceathletics.net
SUMMARY:Spring Break Tumble Clinic
DESCRIPTION:Schools Out for Spring Break! Come get in some extra gym time and work on your tumbling skills! This Tumble Clinic is perfect for all skill levels\, from beginners to advanced tumblers we’ve got you covered! Work with our knowledgable coaches and clean up current skills or master new ones! This is a two hour clinic open to the public! You have the option of just one day or both days!\nAges 5+ \n  \n 
URL:https://forceathletics.net/event/spring-break-tumble-clinic/
CATEGORIES:Upcoming Events
ATTACH;FMTTYPE=image/jpeg:https://forceathletics.net/wp-content/uploads/2026/02/Spring-Break-Tumble-Clinic-Upcoming-Events.jpg
END:VEVENT
BEGIN:VEVENT
DTSTART;TZID=UTC:20260403T090000
DTEND;TZID=UTC:20260403T110000
DTSTAMP:20260423T113348
CREATED:20260217T175615Z
LAST-MODIFIED:20260227T160635Z
UID:10000013-1775206800-1775214000@forceathletics.net
SUMMARY:Easter Daytime Playtime
DESCRIPTION:An extra special Daytime Playtime event! This is a two hour open play session for ages 1-6 years old! This special Easter themed day allows kids to meet the Easter Bunny and join in on an Easter Egg Hunt! Daytime Playtime is the perfect way to let your child get out some energy and meet new friends! This event is open to the public! \nPlease note: The Easter Egg Hunt will start at 9:15am \n  \n 
URL:https://forceathletics.net/event/easter-daytime-playtime/
CATEGORIES:Upcoming Events
ATTACH;FMTTYPE=image/jpeg:https://forceathletics.net/wp-content/uploads/2026/02/Easter-DayPlay-Upcoming-Events.jpg
END:VEVENT
BEGIN:VEVENT
DTSTART;TZID=UTC:20260321T093000
DTEND;TZID=UTC:20260321T113000
DTSTAMP:20260423T113348
CREATED:20260302T164019Z
LAST-MODIFIED:20260303T152940Z
UID:10000033-1774085400-1774092600@forceathletics.net
SUMMARY:Bluey Pre-Shcool Camp
DESCRIPTION:Bluey Preschool Camp is perfect for our littlest campers ages 3–6! During this 2 hour camp they’ll play fun\, imaginative games and create adorable crafts all inspired by Bluey and her adventures. It’s the perfect mix of creativity\, movement\, and preschool-sized fun in a safe\, playful environment 💙✨ \n  \n 
URL:https://forceathletics.net/event/bluey-pre-shcool-camp/
CATEGORIES:Upcoming Events
ATTACH;FMTTYPE=image/jpeg:https://forceathletics.net/wp-content/uploads/2026/03/Bluey-Day-Camp-upcoming-events.jpg
END:VEVENT
BEGIN:VEVENT
DTSTART;TZID=UTC:20260313T183000
DTEND;TZID=UTC:20260313T203000
DTSTAMP:20260423T113348
CREATED:20260205T141600Z
LAST-MODIFIED:20260227T160309Z
UID:10000008-1773426600-1773433800@forceathletics.net
SUMMARY:Glow Tumble Clinic
DESCRIPTION:Our Glow Clinic is back by popular demand! A fun filled two hour clinic where athletes first take part in a one hour tumble clinic\, learning and mastering their skills. They then get to design a white Force Athletic T-shirt that they will wear for the Glow-in-the-Dark Dance Party! This event is open to the public and perfect for ages 5 and up! \nDate: Friday\, March 13th\nTime: 6:30pm-8:30pm \n  \n[vc_btn title=”REGISTER HERE” style=”gradient-custom” gradient_custom_color_1=”#000″ gradient_custom_color_2=”#000″ align=”center” css_animation=”flipInX” button_block=”true” link=”url:portal.iclasspro.com/forceathletics/camps?sortBy=time|title:Register%20Here”]\n 
URL:https://forceathletics.net/event/glow-tumble-clinic-2/
CATEGORIES:Upcoming Events
ATTACH;FMTTYPE=image/jpeg:https://forceathletics.net/wp-content/uploads/2026/02/Glow-Clinic-upcoming-events.jpg
END:VEVENT
BEGIN:VEVENT
DTSTART;TZID=UTC:20260227T183000
DTEND;TZID=UTC:20260227T200000
DTSTAMP:20260423T113348
CREATED:20260205T142539Z
LAST-MODIFIED:20260227T160211Z
UID:10000011-1772217000-1772222400@forceathletics.net
SUMMARY:Aerial Clinic
DESCRIPTION:Back by popular demand! Our AERIAL CLINIC! Focusing on both front and side aerials this clinic was a hit for both cheerleaders and dancers. So come learn how to do an aerial or master the skill! \nDate: Friday\, February 27th\nTime: 6:30pm-8:00pm \n  \n[vc_btn title=”REGISTER HERE” style=”gradient-custom” gradient_custom_color_1=”#000″ gradient_custom_color_2=”#000″ align=”center” css_animation=”flipInX” button_block=”true” link=”url:portal.iclasspro.com/forceathletics/camps/46?sortBy=time|title:Register%20Here”]
URL:https://forceathletics.net/event/aerial-clinic/
CATEGORIES:Upcoming Events
ATTACH;FMTTYPE=image/jpeg:https://forceathletics.net/wp-content/uploads/2026/02/Aerial-Clinic-3.jpg
END:VEVENT
BEGIN:VEVENT
DTSTART;TZID=UTC:20260214T093000
DTEND;TZID=UTC:20260214T113000
DTSTAMP:20260423T113348
CREATED:20260205T142422Z
LAST-MODIFIED:20260205T150939Z
UID:10000010-1771061400-1771068600@forceathletics.net
SUMMARY:Pre-K Camp: Pajama Party
DESCRIPTION:A fun-filled event for ages 3-6 centered around Valentine’s Day! Join us for 2 hours of exciting games\, creative crafts\, making new friends and more! And be sure to come dressed in your FAVORITE PJS! Open to the Public \nDate: Saturday\, February 14th\nTime: 9:30am-11:30am \n  \n[vc_btn title=”REGISTER HERE” style=”gradient-custom” gradient_custom_color_1=”#000″ gradient_custom_color_2=”#000″ align=”center” css_animation=”flipInX” button_block=”true” link=”url:portal.iclasspro.com/forceathletics/camps/53?sortBy=time|title:Register%20Here”]
URL:https://forceathletics.net/event/pre-k-camp-pajama-party/
CATEGORIES:Upcoming Events
ATTACH;FMTTYPE=image/jpeg:https://forceathletics.net/wp-content/uploads/2026/01/Pink-PJ-Party-Camp-2026.jpg
END:VEVENT
BEGIN:VEVENT
DTSTART;TZID=UTC:20260213T180000
DTEND;TZID=UTC:20260213T210000
DTSTAMP:20260423T113348
CREATED:20260205T142245Z
LAST-MODIFIED:20260205T150836Z
UID:10000009-1771005600-1771016400@forceathletics.net
SUMMARY:Parents Night Out: Valentine's Weekend
DESCRIPTION:A fun 3 hour event where you can drop off the kids and enjoy a nice Valentine’s weekend to yourselves! This event is jam packed with activities like\, art’s and Crafts\, games\, trivia\, a bounce house\, and we provide pizza and drinks! So go enjoy a date night while your kids enjoy a night they’ll never forget! Open to the public! \nDate: Friday\, February 13th\nTime: 6:00pm-9:00pm \n  \n[vc_btn title=”REGISTER HERE” style=”gradient-custom” gradient_custom_color_1=”#000″ gradient_custom_color_2=”#000″ align=”center” css_animation=”flipInX” button_block=”true” link=”url:portal.iclasspro.com/forceathletics/camps/52?sortBy=time|title:Register%20Here”]
URL:https://forceathletics.net/event/valentines-weekend/
CATEGORIES:Upcoming Events
ATTACH;FMTTYPE=image/jpeg:https://forceathletics.net/wp-content/uploads/2026/01/PNO-VDay-Flyer-2.jpg
END:VEVENT
BEGIN:VEVENT
DTSTART;TZID=UTC:20251018T173000
DTEND;TZID=UTC:20251018T203000
DTSTAMP:20260423T113348
CREATED:20250905T192826Z
LAST-MODIFIED:20250905T192835Z
UID:10000004-1760808600-1760819400@forceathletics.net
SUMMARY:Trunk Or Treat
DESCRIPTION:Join Us for a Spooktacular Night at Force Athletics!\nMark your calendars for Saturday\, October 18th\, 5:30-8:30 PM and get ready for a night of family fun at our Trunk or Treat Event! Enjoy FREE candy and Trick-or-treat the fun way by visiting creatively decorated car trunks\, each packed with goodies—a safe\, festive way to celebrate Halloween with family and friends. Enjoy concessions\, carnival games\, bouncy house\, and a haunted house for an add on price per! (Unlimited access wristbands available at the door for $20)\nDon’t forget your costumes! Enter our Costume Contest for a chance to win exciting prizes.
URL:https://forceathletics.net/event/trunk-or-treat/
ATTACH;FMTTYPE=image/jpeg:https://forceathletics.net/wp-content/uploads/2025/09/IMG_1900.jpeg
END:VEVENT
BEGIN:VEVENT
DTSTART;TZID=UTC:20251018T120000
DTEND;TZID=UTC:20251018T130000
DTSTAMP:20260423T113348
CREATED:20250905T193104Z
LAST-MODIFIED:20250905T193104Z
UID:10000006-1760788800-1760792400@forceathletics.net
SUMMARY:Half Year Cheer Placements
DESCRIPTION:Our Half-Year Cheer Program is the perfect introduction to competitive cheerleading!\nDesigned for both beginners and athletes with some experience\, this 6-month program offers all the excitement of team cheer with a shorter commitment. If you’re unable to attend the scheduled placement date\, please email us at info@forceathletics.net to arrange a private evaluation. Register today for evaluations to be placed on a team! \nRegister HERE
URL:https://forceathletics.net/event/half-year-cheer-placements/
ATTACH;FMTTYPE=image/png:https://forceathletics.net/wp-content/uploads/2025/09/Half-Year.png
END:VEVENT
BEGIN:VEVENT
DTSTART;TZID=UTC:20251010T183000
DTEND;TZID=UTC:20251010T203000
DTSTAMP:20260423T113348
CREATED:20250905T192931Z
LAST-MODIFIED:20250905T192931Z
UID:10000005-1760121000-1760128200@forceathletics.net
SUMMARY:Glow Tumble Clinic
DESCRIPTION:Ages 6 and up. Come out to our glow in the dark tumbling clinic event. Must Pre Register online to secure your spot! The clinic includes: White Force Athletics T-shirt to Design\, Tumble Clinic\, Glow Party\, Fun! \nRegister HERE
URL:https://forceathletics.net/event/glow-tumble-clinic/
ATTACH;FMTTYPE=image/png:https://forceathletics.net/wp-content/uploads/2025/09/Glow-Clinic-e1758211286622.png
END:VEVENT
BEGIN:VEVENT
DTSTART;TZID=UTC:20251006T173000
DTEND;TZID=UTC:20251006T193000
DTSTAMP:20260423T113348
CREATED:20250905T192720Z
LAST-MODIFIED:20250905T192720Z
UID:10000003-1759771800-1759779000@forceathletics.net
SUMMARY:Open House
DESCRIPTION:~ Open to the public ~ Join Force Athletics Oct. 6\, 5:30-7:30 p.m. for our Fall Open House! Class Demos\, Tours of the Gym\, Raffles\, & Enrollment Specials you won’t want to miss!\nRegister now to sign up for our FREE SWAG BAG! \nRegister HERE
URL:https://forceathletics.net/event/open-house/
ATTACH;FMTTYPE=image/png:https://forceathletics.net/wp-content/uploads/2025/09/Open-House-2025-1.png
END:VEVENT
BEGIN:VEVENT
DTSTART;TZID=UTC:20250926T183000
DTEND;TZID=UTC:20250926T200000
DTSTAMP:20260423T113348
CREATED:20250905T192611Z
LAST-MODIFIED:20250905T192611Z
UID:10000002-1758911400-1758916800@forceathletics.net
SUMMARY:Daddy Daughter (or someone special) Stunt Clinic
DESCRIPTION:Create unforgettable memories while learning fun cheer stunts together. Dads and daughters will team up for an exciting hands-on clinic filled with laughter\, teamwork\, and new skills. They receive matching Force Athletics Tshirts! \nRegister HERE
URL:https://forceathletics.net/event/daddy-daughter-or-someone-special-stunt-clinic/
ATTACH;FMTTYPE=image/jpeg:https://forceathletics.net/wp-content/uploads/2025/09/Daddy-Daughter-Stunt-Clinic.zip-4.jpg
END:VEVENT
END:VCALENDAR