BEGIN:VCALENDAR
VERSION:2.0
PRODID:-//Force Athletics - ECPv6.15.20//NONSGML v1.0//EN
CALSCALE:GREGORIAN
METHOD:PUBLISH
X-WR-CALNAME:Force Athletics
X-ORIGINAL-URL:https://forceathletics.net
X-WR-CALDESC:Events for Force Athletics
REFRESH-INTERVAL;VALUE=DURATION:PT1H
X-Robots-Tag:noindex
X-PUBLISHED-TTL:PT1H
BEGIN:VTIMEZONE
TZID:UTC
BEGIN:STANDARD
TZOFFSETFROM:+0000
TZOFFSETTO:+0000
TZNAME:UTC
DTSTART:20250101T000000
END:STANDARD
END:VTIMEZONE
BEGIN:VTIMEZONE
TZID:UTC
BEGIN:STANDARD
TZOFFSETFROM:+0000
TZOFFSETTO:+0000
TZNAME:UTC
DTSTART:20250101T000000
END:STANDARD
END:VTIMEZONE
BEGIN:VEVENT
DTSTART;TZID=UTC:20260403T090000
DTEND;TZID=UTC:20260403T110000
DTSTAMP:20260423T233143
CREATED:20260217T175615Z
LAST-MODIFIED:20260227T160635Z
UID:10000013-1775206800-1775214000@forceathletics.net
SUMMARY:Easter Daytime Playtime
DESCRIPTION:An extra special Daytime Playtime event! This is a two hour open play session for ages 1-6 years old! This special Easter themed day allows kids to meet the Easter Bunny and join in on an Easter Egg Hunt! Daytime Playtime is the perfect way to let your child get out some energy and meet new friends! This event is open to the public! \nPlease note: The Easter Egg Hunt will start at 9:15am \n  \n 
URL:https://forceathletics.net/event/easter-daytime-playtime/
CATEGORIES:Upcoming Events
ATTACH;FMTTYPE=image/jpeg:https://forceathletics.net/wp-content/uploads/2026/02/Easter-DayPlay-Upcoming-Events.jpg
END:VEVENT
BEGIN:VEVENT
DTSTART;TZID=UTC:20260406T090000
DTEND;TZID=UTC:20260407T110000
DTSTAMP:20260423T233143
CREATED:20260217T184003Z
LAST-MODIFIED:20260218T232411Z
UID:10000015-1775466000-1775559600@forceathletics.net
SUMMARY:Spring Break Tumble Clinic
DESCRIPTION:Schools Out for Spring Break! Come get in some extra gym time and work on your tumbling skills! This Tumble Clinic is perfect for all skill levels\, from beginners to advanced tumblers we’ve got you covered! Work with our knowledgable coaches and clean up current skills or master new ones! This is a two hour clinic open to the public! You have the option of just one day or both days!\nAges 5+ \n  \n 
URL:https://forceathletics.net/event/spring-break-tumble-clinic/
CATEGORIES:Upcoming Events
ATTACH;FMTTYPE=image/jpeg:https://forceathletics.net/wp-content/uploads/2026/02/Spring-Break-Tumble-Clinic-Upcoming-Events.jpg
END:VEVENT
BEGIN:VEVENT
DTSTART;TZID=UTC:20260406T090000
DTEND;TZID=UTC:20260409T130000
DTSTAMP:20260423T233143
CREATED:20260217T182707Z
LAST-MODIFIED:20260227T160751Z
UID:10000014-1775466000-1775739600@forceathletics.net
SUMMARY:Spring Break Cheer & Tumble Camp
DESCRIPTION:Schools Out for Spring Break! Let Force Athletics handle all the fun! This is a Cheer and Tumble Camp perfect for ages 5-12 years old!\nKids will meet new friends while taking part in all things cheer! They get to create routines\, dance\, jump\, play games\, and tumble!\nYou may do just one day of camp or all four! with extended hours also available for kids that may require a full day camp!\nThis camp is open to the public! \n  \n 
URL:https://forceathletics.net/event/spring-break-cheer-tumble-camp/
CATEGORIES:Upcoming Events
ATTACH;FMTTYPE=image/jpeg:https://forceathletics.net/wp-content/uploads/2026/02/SB-Camp-Upcoming-Events.jpg
END:VEVENT
BEGIN:VEVENT
DTSTART;TZID=UTC:20260413T173000
DTEND;TZID=UTC:20260413T193000
DTSTAMP:20260423T233143
CREATED:20260319T154102Z
LAST-MODIFIED:20260319T154106Z
UID:10000034-1776101400-1776108600@forceathletics.net
SUMMARY:Spring/Summer Program Open House
DESCRIPTION:You’re invited to join us for a fun-filled evening at Force Athletics! Come check out everything we offer our community! From Summer Camps to Tumble Classes\, Birthday Parties and so much more! \n📅 Monday\, April 13\n🕠 5:30–7:30 PM\n📍 Force Athletics \nBring your family and friends and enjoy:\n• Info on Summer Camps & Birthday Parties\n• Tumble Class Info\n• Competitive Cheer Info\n• Class demos & gym tours\n• Raffles\, prizes & exclusive specials\n• FREE swag bag when you register in advance \n💥 Referral Bonus: Bring a friend! Each referral who attends earns you an entry into our raffle for extra prizes. \n✨ Come see what makes Force Athletics special—we’d love to meet you! \n👉 Register now to save your spot and claim your FREE swag bag \n  \n 
URL:https://forceathletics.net/event/spring-summer-program-open-house/
CATEGORIES:Upcoming Events
ATTACH;FMTTYPE=image/jpeg:https://forceathletics.net/wp-content/uploads/2026/03/Copy-of-Copy-of-Open-House-August-2024-Connect-3.jpg
END:VEVENT
BEGIN:VEVENT
DTSTART;TZID=UTC:20260417T183000
DTEND;TZID=UTC:20260417T203000
DTSTAMP:20260423T233143
CREATED:20260217T190049Z
LAST-MODIFIED:20260227T160917Z
UID:10000016-1776450600-1776457800@forceathletics.net
SUMMARY:Power Hour Tumble Clinic
DESCRIPTION:Our Power Hour Tumble Clinic is back! This one hour focused session prioritizes one skill at a time! Helping to either clean or master your tumbling! This clinic offers two sessions you may do just one or both sessions! This clinic is open to the public ages 5+\nSession 1: 6:30-7:30pm (you will select one skill to work on)\n– Back Bends\n– Back Walkovers\n– Back Handsprings\n– Tuck/Punch Fronts \nSession 2: 7:30-8:30pm (you will select one skill to work on)\n– Cartwheels\n– Front Walkovers\n– Front Handsprings\n– Aerials \n  \n 
URL:https://forceathletics.net/event/power-hour-tumble-clinic/
CATEGORIES:Upcoming Events
ATTACH;FMTTYPE=image/jpeg:https://forceathletics.net/wp-content/uploads/2026/02/Power-Hour-upcoming-events.jpg
END:VEVENT
BEGIN:VEVENT
DTSTART;TZID=UTC:20260520T180000
DTEND;TZID=UTC:20260520T193000
DTSTAMP:20260423T233143
CREATED:20260417T223654Z
LAST-MODIFIED:20260417T223657Z
UID:10000049-1779300000-1779305400@forceathletics.net
SUMMARY:Tiny Stunt & Tumble Clinic
DESCRIPTION:Join us for our Tiny Stunt & Tumble Clinic! \nThis fun-filled clinic is perfect for athletes ages 4-7 who want to build confidence while learning the basics of stunting and tumbling in a safe\, encouraging environment. Our experienced coaches will help athletes work on age appropriate skills\, coordination\, and teamwork\, all while having a blast! \n  \n 
URL:https://forceathletics.net/event/tiny-stunt-tumble-clinic/
CATEGORIES:Upcoming Events
ATTACH;FMTTYPE=image/jpeg:https://forceathletics.net/wp-content/uploads/2026/04/Copy-of-Tiny-Stunt-and-Tumble-Clinic-16-x-9-in.jpeg
END:VEVENT
BEGIN:VEVENT
DTSTART;TZID=UTC:20260622T090000
DTEND;TZID=UTC:20260625T010000
DTSTAMP:20260423T233143
CREATED:20260407T215526Z
LAST-MODIFIED:20260407T215530Z
UID:10000036-1782118800-1782349200@forceathletics.net
SUMMARY:Disney Princess Preschool Camp
DESCRIPTION:Little royals will twirl\, play\, and imagine in this magical camp inspired by their favorite Disney Princesses. Campers will enjoy themed games\, crafts\, music\, and movement while building confidence\, creativity\, and friendship. \n  \n 
URL:https://forceathletics.net/event/disney-princess-preschool-camp/
CATEGORIES:Upcoming Events
ATTACH;FMTTYPE=image/jpeg:https://forceathletics.net/wp-content/uploads/2026/04/Pre-School-Camp-Website-1.jpeg
END:VEVENT
BEGIN:VEVENT
DTSTART;TZID=UTC:20260622T090000
DTEND;TZID=UTC:20260625T130000
DTSTAMP:20260423T233143
CREATED:20260224T195521Z
LAST-MODIFIED:20260224T195525Z
UID:10000027-1782118800-1782392400@forceathletics.net
SUMMARY:Disney Princess Camp
DESCRIPTION:Little royals will twirl\, play\, and imagine in this magical camp inspired by their favorite Disney Princesses. Campers will enjoy themed games\, crafts\, music\, and movement while building confidence\, creativity\, and friendship. \nEarly Bird Pricing before 3/31: $125 per week\nAfter 4/1: $150 per week\, $40 per daily drop in \n  \n 
URL:https://forceathletics.net/event/disney-princess-camp/
CATEGORIES:Preschool Camps
ATTACH;FMTTYPE=image/jpeg:https://forceathletics.net/wp-content/uploads/2026/02/Disney-Princess-Camp-Wesbite-1.jpg
END:VEVENT
BEGIN:VEVENT
DTSTART;TZID=UTC:20260622T090000
DTEND;TZID=UTC:20260626T040000
DTSTAMP:20260423T233143
CREATED:20260224T183411Z
LAST-MODIFIED:20260224T183415Z
UID:10000018-1782118800-1782446400@forceathletics.net
SUMMARY:Color Wars Camp
DESCRIPTION:Color Wars Week is all about team spirit\, friendly competition\, and nonstop fun! Campers will be divided into colorful teams and take on exciting games\, challenges\, and creative activities all week long.  Get ready for a week full of energy\, laughter\, and colorful memories! Will end the week with a color run! \n  \n 
URL:https://forceathletics.net/event/color-wars-camp/
CATEGORIES:Summer Camps
ATTACH;FMTTYPE=image/png:https://forceathletics.net/wp-content/uploads/2026/02/Color-Wars-Camp-Website-1920-x-1080-px.png
END:VEVENT
BEGIN:VEVENT
DTSTART;TZID=UTC:20260622T090000
DTEND;TZID=UTC:20260626T040000
DTSTAMP:20260423T233143
CREATED:20260407T220318Z
LAST-MODIFIED:20260407T220322Z
UID:10000040-1782118800-1782446400@forceathletics.net
SUMMARY:Color Wars Camp
DESCRIPTION:Color Wars Week is all about team spirit\, friendly competition\, and nonstop fun! Campers will be divided into colorful teams and take on exciting games\, challenges\, and creative activities all week long. Get ready for a week full of energy\, laughter\, and colorful memories! Will end the week with a color run! \n  \n 
URL:https://forceathletics.net/event/color-wars-camp-2/
CATEGORIES:Upcoming Events
ATTACH;FMTTYPE=image/jpeg:https://forceathletics.net/wp-content/uploads/2026/04/Color-Wars-Camp-Website-1920-x-1080-px.jpeg
END:VEVENT
BEGIN:VEVENT
DTSTART;TZID=UTC:20260629T090000
DTEND;TZID=UTC:20260702T040000
DTSTAMP:20260423T233143
CREATED:20260224T184840Z
LAST-MODIFIED:20260224T184843Z
UID:10000019-1782723600-1782964800@forceathletics.net
SUMMARY:Glow Summer Camp
DESCRIPTION:Get ready to shine! Campers will light up the week with glowing games\, bright challenges\, and high-energy activities that bring the fun to a whole new level. From neon obstacle courses to glow-in-the-dark team games\, every day will be full of excitement. Campers are encouraged to wear their brightest colors and show off their glow spirit. \n  \n 
URL:https://forceathletics.net/event/glow-summer-camp/
CATEGORIES:Summer Camps
ATTACH;FMTTYPE=image/jpeg:https://forceathletics.net/wp-content/uploads/2026/02/Glow-Summer-Camp-Website-1920-x-1080-px.jpg
END:VEVENT
BEGIN:VEVENT
DTSTART;TZID=UTC:20260629T090000
DTEND;TZID=UTC:20260702T040000
DTSTAMP:20260423T233143
CREATED:20260407T220450Z
LAST-MODIFIED:20260407T220454Z
UID:10000041-1782723600-1782964800@forceathletics.net
SUMMARY:Glow Summer Camp
DESCRIPTION:Get ready to shine! Campers will light up the week with glowing games\, bright challenges\, and high-energy activities that bring the fun to a whole new level. From neon obstacle courses to glow-in-the-dark team games\, every day will be full of excitement. Campers are encouraged to wear their brightest colors and show off their glow spirit. \n  \n 
URL:https://forceathletics.net/event/glow-summer-camp-2/
CATEGORIES:Upcoming Events
ATTACH;FMTTYPE=image/jpeg:https://forceathletics.net/wp-content/uploads/2026/04/Glow-Summer-Camp-Website-1920-x-1080-px.jpeg
END:VEVENT
BEGIN:VEVENT
DTSTART;TZID=UTC:20260706T090000
DTEND;TZID=UTC:20260709T010000
DTSTAMP:20260423T233143
CREATED:20260407T215724Z
LAST-MODIFIED:20260407T215727Z
UID:10000037-1783328400-1783558800@forceathletics.net
SUMMARY:Paw Patrol Camp
DESCRIPTION:No job is too big\, no pup is too small! Campers will go on fun rescue-style adventures with activities\, games\, and crafts inspired by Paw Patrol\, all while learning teamwork\, problem-solving\, and active play. \n  \n 
URL:https://forceathletics.net/event/paw-patrol-camp-2/
CATEGORIES:Upcoming Events
ATTACH;FMTTYPE=image/jpeg:https://forceathletics.net/wp-content/uploads/2026/04/Pre-School-Camp-Website-2.jpeg
END:VEVENT
BEGIN:VEVENT
DTSTART;TZID=UTC:20260706T090000
DTEND;TZID=UTC:20260709T130000
DTSTAMP:20260423T233143
CREATED:20260224T200232Z
LAST-MODIFIED:20260224T200236Z
UID:10000028-1783328400-1783602000@forceathletics.net
SUMMARY:Paw Patrol Camp
DESCRIPTION:No job is too big\, no pup is too small! Campers will go on fun rescue-style adventures with activities\, games\, and crafts inspired by Paw Patrol\, all while learning teamwork\, problem-solving\, and active play. \nEarly Bird Pricing before 3/31: $125 per week\nAfter 4/1: $150 per week\, $40 per daily drop in \n  \n 
URL:https://forceathletics.net/event/paw-patrol-camp/
CATEGORIES:Preschool Camps
ATTACH;FMTTYPE=image/jpeg:https://forceathletics.net/wp-content/uploads/2026/02/Pre-School-Camp-Website.jpg
END:VEVENT
BEGIN:VEVENT
DTSTART;TZID=UTC:20260706T090000
DTEND;TZID=UTC:20260710T040000
DTSTAMP:20260423T233143
CREATED:20260407T220627Z
LAST-MODIFIED:20260407T220630Z
UID:10000042-1783328400-1783656000@forceathletics.net
SUMMARY:Mad Science camp
DESCRIPTION:Put on your lab coats and get curious! Campers will explore hands-on experiments\, wacky challenges\, and mind-blowing activities that spark creativity and discovery. Each day is packed with safe\, age-appropriate science fun that encourages problem-solving and imagination. It’s the perfect mix of learning and laughter. \n  \n 
URL:https://forceathletics.net/event/mad-science-camp-2/
CATEGORIES:Upcoming Events
ATTACH;FMTTYPE=image/jpeg:https://forceathletics.net/wp-content/uploads/2026/04/Mad-Science-Camp-Website-1920-x-1080-px.jpeg
END:VEVENT
BEGIN:VEVENT
DTSTART;TZID=UTC:20260706T090000
DTEND;TZID=UTC:20260710T160000
DTSTAMP:20260423T233143
CREATED:20260224T190023Z
LAST-MODIFIED:20260224T190028Z
UID:10000020-1783328400-1783699200@forceathletics.net
SUMMARY:Mad Science Camp
DESCRIPTION:Put on your lab coats and get curious! Campers will explore hands-on experiments\, wacky challenges\, and mind-blowing activities that spark creativity and discovery. Each day is packed with safe\, age-appropriate science fun that encourages problem-solving and imagination. It’s the perfect mix of learning and laughter. \n  \n 
URL:https://forceathletics.net/event/mad-science-camp/
CATEGORIES:Summer Camps
ATTACH;FMTTYPE=image/jpeg:https://forceathletics.net/wp-content/uploads/2026/02/Mad-Science-Camp-Website-1920-x-1080-px.jpg
END:VEVENT
BEGIN:VEVENT
DTSTART;TZID=UTC:20260713T090000
DTEND;TZID=UTC:20260717T040000
DTSTAMP:20260423T233143
CREATED:20260407T220817Z
LAST-MODIFIED:20260407T220822Z
UID:10000043-1783933200-1784260800@forceathletics.net
SUMMARY:Cheer & Tumble Camp
DESCRIPTION:Get ready to jump\, stunt\, and roll! Campers will work on cheer fundamentals\, tumbling skills\, and fun routines in a positive and energetic environment. This week focuses on building confidence\, strength\, and teamwork while learning new skills at each camper’s level. Perfect for beginners and experienced athletes alike. \n  \n 
URL:https://forceathletics.net/event/cheer-tumble-camp-2/
CATEGORIES:Upcoming Events
ATTACH;FMTTYPE=image/jpeg:https://forceathletics.net/wp-content/uploads/2026/04/Cheer-Camp-Website-1920-x-1080-px.jpeg
END:VEVENT
BEGIN:VEVENT
DTSTART;TZID=UTC:20260713T090000
DTEND;TZID=UTC:20260717T160000
DTSTAMP:20260423T233143
CREATED:20260224T191012Z
LAST-MODIFIED:20260224T191016Z
UID:10000021-1783933200-1784304000@forceathletics.net
SUMMARY:Cheer & Tumble Camp
DESCRIPTION:Early Bird Pricing before 3/31: $279 per week\, $59 per day\nAfter 4/1: $329 per week\, $75 per day \nGet ready to jump\, stunt\, and roll! Campers will work on cheer fundamentals\, tumbling skills\, and fun routines in a positive and energetic environment. This week focuses on building confidence\, strength\, and teamwork while learning new skills at each camper’s level. Perfect for beginners and experienced athletes alike\, \n  \n 
URL:https://forceathletics.net/event/cheer-tumble-camp/
CATEGORIES:Summer Camps
ATTACH;FMTTYPE=image/jpeg:https://forceathletics.net/wp-content/uploads/2026/02/Cheer-Camp-Website-1920-x-1080-px.jpg
END:VEVENT
BEGIN:VEVENT
DTSTART;TZID=UTC:20260720T090000
DTEND;TZID=UTC:20260723T010000
DTSTAMP:20260423T233143
CREATED:20260407T215859Z
LAST-MODIFIED:20260407T215902Z
UID:10000038-1784538000-1784768400@forceathletics.net
SUMMARY:Mickey & Friends Camp
DESCRIPTION:Join Mickey\, Minnie\, and friends for a week full of fun! Campers will enjoy classic games\, creative crafts\, music\, and movement in a cheerful environment that encourages social skills and imagination. \n  \n 
URL:https://forceathletics.net/event/mickey-friends-camp-2/
CATEGORIES:Upcoming Events
ATTACH;FMTTYPE=image/jpeg:https://forceathletics.net/wp-content/uploads/2026/04/Pre-School-Camp-Website-3.jpeg
END:VEVENT
BEGIN:VEVENT
DTSTART;TZID=UTC:20260720T090000
DTEND;TZID=UTC:20260723T130000
DTSTAMP:20260423T233143
CREATED:20260224T200519Z
LAST-MODIFIED:20260224T200522Z
UID:10000029-1784538000-1784811600@forceathletics.net
SUMMARY:Mickey & Friends Camp
DESCRIPTION:Join Mickey\, Minnie\, and friends for a week full of fun! Campers will enjoy classic games\, creative crafts\, music\, and movement in a cheerful environment that encourages social skills and imagination. \nEarly Bird Pricing before 3/31: $125 per week\nAfter 4/1: $150 per week\, $40 per daily drop in \n  \n 
URL:https://forceathletics.net/event/mickey-friends-camp/
CATEGORIES:Preschool Camps
ATTACH;FMTTYPE=image/jpeg:https://forceathletics.net/wp-content/uploads/2026/02/Pre-School-Camp-Website-1.jpg
END:VEVENT
BEGIN:VEVENT
DTSTART;TZID=UTC:20260720T090000
DTEND;TZID=UTC:20260724T040000
DTSTAMP:20260423T233143
CREATED:20260407T220934Z
LAST-MODIFIED:20260407T220938Z
UID:10000044-1784538000-1784865600@forceathletics.net
SUMMARY:Messy Kids Camp
DESCRIPTION:Messy fun encouraged! From slime to splatter art\, campers will dive into creative\, hands-on activities where getting messy is part of the fun. Old clothes are highly recommended for this fan-favorite week! \n  \n 
URL:https://forceathletics.net/event/messy-kids-camp-2/
CATEGORIES:Upcoming Events
ATTACH;FMTTYPE=image/jpeg:https://forceathletics.net/wp-content/uploads/2026/04/Messy-Kids-Camp-website-1920-x-1080-px.jpeg
END:VEVENT
BEGIN:VEVENT
DTSTART;TZID=UTC:20260720T090000
DTEND;TZID=UTC:20260724T160000
DTSTAMP:20260423T233143
CREATED:20260224T191651Z
LAST-MODIFIED:20260224T191656Z
UID:10000022-1784538000-1784908800@forceathletics.net
SUMMARY:Messy Kids Camp
DESCRIPTION:Messy fun encouraged! From slime to splatter art\, campers will dive into creative\, hands-on activities where getting messy is part of the fun. Old clothes are highly recommended for this fan-favorite week! \nEarly Bird Pricing before 3/31: $279 per week\, $59 per day\nAfter 4/1: $329 per week\, $75 per day \n  \n 
URL:https://forceathletics.net/event/messy-kids-camp/
CATEGORIES:Summer Camps
ATTACH;FMTTYPE=image/jpeg:https://forceathletics.net/wp-content/uploads/2026/02/Messy-Kids-Camp-website-1920-x-1080-px.jpg
END:VEVENT
BEGIN:VEVENT
DTSTART;TZID=UTC:20260727T090000
DTEND;TZID=UTC:20260731T040000
DTSTAMP:20260423T233143
CREATED:20260407T221055Z
LAST-MODIFIED:20260407T221059Z
UID:10000045-1785142800-1785470400@forceathletics.net
SUMMARY:Kids Survivor Camp
DESCRIPTION:Outwit\, outplay\, outlast! Campers will work in teams to complete challenges\, solve problems\, and test their skills in a week inspired by adventure and teamwork. Every camper will feel accomplished as they conquer fun challenges together. \n  \n 
URL:https://forceathletics.net/event/kids-survivor-camp-2/
CATEGORIES:Upcoming Events
ATTACH;FMTTYPE=image/jpeg:https://forceathletics.net/wp-content/uploads/2026/04/Survivor-Camp-Website-1920-x-1080-px.jpeg
END:VEVENT
BEGIN:VEVENT
DTSTART;TZID=UTC:20260727T090000
DTEND;TZID=UTC:20260731T160000
DTSTAMP:20260423T233143
CREATED:20260224T192153Z
LAST-MODIFIED:20260224T192157Z
UID:10000023-1785142800-1785513600@forceathletics.net
SUMMARY:Kids Survivor Camp
DESCRIPTION:Outwit\, outplay\, outlast! Campers will work in teams to complete challenges\, solve problems\, and test their skills in a week inspired by adventure and teamwork. Every camper will feel accomplished as they conquer fun challenges together. \nEarly Bird Pricing before 3/31: $279 per week\, $59 per day\nAfter 4/1: $329 per week\, $75 per day \n  \n 
URL:https://forceathletics.net/event/kids-survivor-camp/
CATEGORIES:Summer Camps
ATTACH;FMTTYPE=image/jpeg:https://forceathletics.net/wp-content/uploads/2026/02/Survivor-Camp-Website-1920-x-1080-px.jpg
END:VEVENT
BEGIN:VEVENT
DTSTART;TZID=UTC:20260803T090000
DTEND;TZID=UTC:20260806T010000
DTSTAMP:20260423T233143
CREATED:20260407T214757Z
LAST-MODIFIED:20260407T214811Z
UID:10000035-1785747600-1785978000@forceathletics.net
SUMMARY:Animal Adventures Camp
DESCRIPTION:Animal Adventures Preschool Camp is a fun\, hands-on camp for ages 3–5 filled with animal-themed crafts\, games\, movement\, and imaginative play. It’s the perfect mix of learning and adventure in a safe\, nurturing environment! \n  \n 
URL:https://forceathletics.net/event/animal-adventures-camp-2/
CATEGORIES:Upcoming Events
ATTACH;FMTTYPE=image/jpeg:https://forceathletics.net/wp-content/uploads/2026/04/Pre-School-Camp-Website.jpeg
END:VEVENT
BEGIN:VEVENT
DTSTART;TZID=UTC:20260803T090000
DTEND;TZID=UTC:20260806T130000
DTSTAMP:20260423T233143
CREATED:20260224T201112Z
LAST-MODIFIED:20260224T201116Z
UID:10000030-1785747600-1786021200@forceathletics.net
SUMMARY:Animal Adventures Camp
DESCRIPTION:Animal Adventures Preschool Camp is a fun\, hands-on camp for ages 3–5 filled with animal-themed crafts\, games\, movement\, and imaginative play. It’s the perfect mix of learning and adventure in a safe\, nurturing environment! \nEarly Bird Pricing before 3/31: $125 per week\nAfter 4/1: $150 per week\, $40 per daily drop in \n  \n 
URL:https://forceathletics.net/event/animal-adventures-camp/
CATEGORIES:Preschool Camps
ATTACH;FMTTYPE=image/jpeg:https://forceathletics.net/wp-content/uploads/2026/02/Pre-School-Camp-Website-2.jpg
END:VEVENT
BEGIN:VEVENT
DTSTART;TZID=UTC:20260803T090000
DTEND;TZID=UTC:20260807T040000
DTSTAMP:20260423T233143
CREATED:20260407T221228Z
LAST-MODIFIED:20260407T221231Z
UID:10000046-1785747600-1786075200@forceathletics.net
SUMMARY:Water Wars Camp
DESCRIPTION:Splash into summer fun! Campers will cool off with water games\, relays\, and team challenges—perfect for beating the heat while staying active. Campers should come ready to get soaked and have a blast. \n  \n 
URL:https://forceathletics.net/event/water-wars-camp-2/
CATEGORIES:Upcoming Events
ATTACH;FMTTYPE=image/jpeg:https://forceathletics.net/wp-content/uploads/2026/04/Water-Wars-Summer-Camp-Website-1920-x-1080-px.jpeg
END:VEVENT
BEGIN:VEVENT
DTSTART;TZID=UTC:20260803T090000
DTEND;TZID=UTC:20260807T160000
DTSTAMP:20260423T233143
CREATED:20260224T192851Z
LAST-MODIFIED:20260224T192855Z
UID:10000024-1785747600-1786118400@forceathletics.net
SUMMARY:Water Wars Camp
DESCRIPTION:Splash into summer fun! Campers will cool off with water games\, relays\, and team challenges—perfect for beating the heat while staying active. Campers should come ready to get soaked and have a blast. \nEarly Bird Pricing before 3/31: $279 per week\, $59 per day\nAfter 4/1: $329 per week\, $75 per day \n  \n 
URL:https://forceathletics.net/event/water-wars-camp/
CATEGORIES:Summer Camps
ATTACH;FMTTYPE=image/jpeg:https://forceathletics.net/wp-content/uploads/2026/02/Water-Wars-Summer-Camp-Website-1920-x-1080-px.jpg
END:VEVENT
BEGIN:VEVENT
DTSTART;TZID=UTC:20260810T090000
DTEND;TZID=UTC:20260814T040000
DTSTAMP:20260423T233143
CREATED:20260407T221330Z
LAST-MODIFIED:20260407T221334Z
UID:10000047-1786352400-1786680000@forceathletics.net
SUMMARY:Carnival Fun Camp
DESCRIPTION:Step right up! Campers will enjoy classic carnival-style games\, friendly competitions\, and festive activities that bring all the excitement of the fair. From skill games to silly challenges\, there’s something for everyone. The week wraps up with tons of smiles and unforgettable memories. \n  \n 
URL:https://forceathletics.net/event/carnival-fun-camp-2/
CATEGORIES:Upcoming Events
ATTACH;FMTTYPE=image/jpeg:https://forceathletics.net/wp-content/uploads/2026/04/Carnival-Camp-Wesbite-1920-x-1080-px.jpeg
END:VEVENT
BEGIN:VEVENT
DTSTART;TZID=UTC:20260810T090000
DTEND;TZID=UTC:20260814T160000
DTSTAMP:20260423T233143
CREATED:20260224T194022Z
LAST-MODIFIED:20260224T194026Z
UID:10000025-1786352400-1786723200@forceathletics.net
SUMMARY:Carnival Fun Camp
DESCRIPTION:Step right up! Campers will enjoy classic carnival-style games\, friendly competitions\, and festive activities that bring all the excitement of the fair. From skill games to silly challenges\, there’s something for everyone. The week wraps up with tons of smiles and unforgettable memories. \nEarly Bird Pricing before 3/31: $279 per week\, $59 per day\nAfter 4/1: $329 per week\, $75 per day \n  \n 
URL:https://forceathletics.net/event/carnival-fun-camp/
CATEGORIES:Summer Camps
ATTACH;FMTTYPE=image/jpeg:https://forceathletics.net/wp-content/uploads/2026/02/Carnival-Camp-Wesbite-1920-x-1080-px.jpg
END:VEVENT
END:VCALENDAR