BEGIN:VCALENDAR
VERSION:2.0
PRODID:-//Force Athletics - ECPv6.15.20//NONSGML v1.0//EN
CALSCALE:GREGORIAN
METHOD:PUBLISH
X-WR-CALNAME:Force Athletics
X-ORIGINAL-URL:https://forceathletics.net
X-WR-CALDESC:Events for Force Athletics
REFRESH-INTERVAL;VALUE=DURATION:PT1H
X-Robots-Tag:noindex
X-PUBLISHED-TTL:PT1H
BEGIN:VTIMEZONE
TZID:UTC
BEGIN:STANDARD
TZOFFSETFROM:+0000
TZOFFSETTO:+0000
TZNAME:UTC
DTSTART:20240101T000000
END:STANDARD
END:VTIMEZONE
BEGIN:VEVENT
DTSTART;TZID=UTC:20251010T183000
DTEND;TZID=UTC:20251010T203000
DTSTAMP:20260423T172516
CREATED:20250905T192931Z
LAST-MODIFIED:20250905T192931Z
UID:10000005-1760121000-1760128200@forceathletics.net
SUMMARY:Glow Tumble Clinic
DESCRIPTION:Ages 6 and up. Come out to our glow in the dark tumbling clinic event. Must Pre Register online to secure your spot! The clinic includes: White Force Athletics T-shirt to Design\, Tumble Clinic\, Glow Party\, Fun! \nRegister HERE
URL:https://forceathletics.net/event/glow-tumble-clinic/
ATTACH;FMTTYPE=image/png:https://forceathletics.net/wp-content/uploads/2025/09/Glow-Clinic-e1758211286622.png
END:VEVENT
BEGIN:VEVENT
DTSTART;TZID=UTC:20251006T173000
DTEND;TZID=UTC:20251006T193000
DTSTAMP:20260423T172516
CREATED:20250905T192720Z
LAST-MODIFIED:20250905T192720Z
UID:10000003-1759771800-1759779000@forceathletics.net
SUMMARY:Open House
DESCRIPTION:~ Open to the public ~ Join Force Athletics Oct. 6\, 5:30-7:30 p.m. for our Fall Open House! Class Demos\, Tours of the Gym\, Raffles\, & Enrollment Specials you won’t want to miss!\nRegister now to sign up for our FREE SWAG BAG! \nRegister HERE
URL:https://forceathletics.net/event/open-house/
ATTACH;FMTTYPE=image/png:https://forceathletics.net/wp-content/uploads/2025/09/Open-House-2025-1.png
END:VEVENT
BEGIN:VEVENT
DTSTART;TZID=UTC:20250926T183000
DTEND;TZID=UTC:20250926T200000
DTSTAMP:20260423T172516
CREATED:20250905T192611Z
LAST-MODIFIED:20250905T192611Z
UID:10000002-1758911400-1758916800@forceathletics.net
SUMMARY:Daddy Daughter (or someone special) Stunt Clinic
DESCRIPTION:Create unforgettable memories while learning fun cheer stunts together. Dads and daughters will team up for an exciting hands-on clinic filled with laughter\, teamwork\, and new skills. They receive matching Force Athletics Tshirts! \nRegister HERE
URL:https://forceathletics.net/event/daddy-daughter-or-someone-special-stunt-clinic/
ATTACH;FMTTYPE=image/jpeg:https://forceathletics.net/wp-content/uploads/2025/09/Daddy-Daughter-Stunt-Clinic.zip-4.jpg
END:VEVENT
END:VCALENDAR